BEGIN:VCALENDAR
VERSION:2.0
PRODID:-//Illinois Chamber of Commerce - ECPv6.15.18//NONSGML v1.0//EN
CALSCALE:GREGORIAN
METHOD:PUBLISH
X-WR-CALNAME:Illinois Chamber of Commerce
X-ORIGINAL-URL:https://ilchamber.org
X-WR-CALDESC:Events for Illinois Chamber of Commerce
REFRESH-INTERVAL;VALUE=DURATION:PT1H
X-Robots-Tag:noindex
X-PUBLISHED-TTL:PT1H
BEGIN:VTIMEZONE
TZID:America/Chicago
BEGIN:DAYLIGHT
TZOFFSETFROM:-0600
TZOFFSETTO:-0500
TZNAME:CDT
DTSTART:20250309T080000
END:DAYLIGHT
BEGIN:STANDARD
TZOFFSETFROM:-0500
TZOFFSETTO:-0600
TZNAME:CST
DTSTART:20251102T070000
END:STANDARD
BEGIN:DAYLIGHT
TZOFFSETFROM:-0600
TZOFFSETTO:-0500
TZNAME:CDT
DTSTART:20260308T080000
END:DAYLIGHT
BEGIN:STANDARD
TZOFFSETFROM:-0500
TZOFFSETTO:-0600
TZNAME:CST
DTSTART:20261101T070000
END:STANDARD
BEGIN:DAYLIGHT
TZOFFSETFROM:-0600
TZOFFSETTO:-0500
TZNAME:CDT
DTSTART:20270314T080000
END:DAYLIGHT
BEGIN:STANDARD
TZOFFSETFROM:-0500
TZOFFSETTO:-0600
TZNAME:CST
DTSTART:20271107T070000
END:STANDARD
END:VTIMEZONE
BEGIN:VEVENT
DTSTART;TZID=America/Chicago:20260427T140000
DTEND;TZID=America/Chicago:20260427T180000
DTSTAMP:20260423T184007
CREATED:20260408T151748Z
LAST-MODIFIED:20260414T141559Z
UID:10000034-1777298400-1777312800@ilchamber.org
SUMMARY:Taiwan-Illinois Business Forum
DESCRIPTION:RSVP \n\nAgenda\n\nMore info\n\nspeakers\n\n\n\n\n\nAmid global supply chain realignment\, this Forum serves as strategic platform to strengthen technology supply chains\, two-way investment \, and public-private partnerships between Taiwan -a global hub of technology manufacturing- and Illinois\, a leading center for research\, innovation\, and logistics.
URL:https://ilchamber.org/event/taiwan-illinois-business-forum/
LOCATION:Barnes & Thornburg\, 1 N. Wacker Dr.\, Suite 4400\, Chicago\, IL\, 60606\, United States
CATEGORIES:International Business events
ATTACH;FMTTYPE=image/png:https://ilchamber.org/wp-content/uploads/2026/04/4.27-banner.png
END:VEVENT
BEGIN:VEVENT
DTSTART;TZID=America/Chicago:20260507T103000
DTEND;TZID=America/Chicago:20260507T120000
DTSTAMP:20260423T184007
CREATED:20260324T144614Z
LAST-MODIFIED:20260324T145029Z
UID:10000030-1778149800-1778155200@ilchamber.org
SUMMARY:Are Your Independent Contractors Properly Classified?
DESCRIPTION:The U.S. Department of Labor has once again reshaped the landscape of worker classification—an area that carries significant legal\, financial\, and operational consequences for employers across industries. On February 26\, 2026\, the DOL released a new proposed rule that would rescind the Biden Administration’s 2024 final rule and restore an analysis similar to the 2021 “economic reality” framework\, marking a major regulatory shift for companies that rely on independent contractors.  Whether your organization engages contractors in construction\, technology\, healthcare\, transportation\, consulting\, or any emerging gig‑economy model\, this webinar will provide actionable insights into how the proposed rule may affect your compliance obligations and workforce strategy.  Join Scott Cruz\, Labor and Employment Partner at UB Greensfelder\, as he discusses what the DOL’s proposed 2026 rule actually changes\, how to evaluate your current independent‑contractor relationships under the revised “economic reality” test and other applicable federal and state tests\, and discusses key risks\, benefits\, and open questions for employers. \n\n\n\n\nmore info\n\nregister here
URL:https://ilchamber.org/event/are-your-independent-contractors-properly-classified/
LOCATION:Online
CATEGORIES:Webinars
ATTACH;FMTTYPE=image/jpeg:https://ilchamber.org/wp-content/uploads/2026/03/Independent-Contractors-Image.jpg
END:VEVENT
BEGIN:VEVENT
DTSTART;TZID=America/Chicago:20260514T090000
DTEND;TZID=America/Chicago:20260514T120000
DTSTAMP:20260423T184007
CREATED:20260311T185541Z
LAST-MODIFIED:20260312T172954Z
UID:10000026-1778749200-1778760000@ilchamber.org
SUMMARY:Workers' Compensation Training: A Two-Part Seminar
DESCRIPTION:More Info\n\nRegister Here
URL:https://ilchamber.org/event/workers-compensation-training-a-two-part-seminar/
LOCATION:Connor & Gallagher OneSource\, 750 Warrenville Rd.\, Suite 400\, Lisle\, IL\, 60532\, United States
CATEGORIES:Seminars
ATTACH;FMTTYPE=image/jpeg:https://ilchamber.org/wp-content/uploads/2026/03/Workers-Comp-Image-2.jpg
END:VEVENT
BEGIN:VEVENT
DTSTART;TZID=America/Chicago:20260519T103000
DTEND;TZID=America/Chicago:20260519T113000
DTSTAMP:20260423T184007
CREATED:20260414T134104Z
LAST-MODIFIED:20260414T134336Z
UID:10000035-1779186600-1779190200@ilchamber.org
SUMMARY:Workers' Compensation - Return to Work Issues & Strategies
DESCRIPTION:Please join us for a discussion with Tim O’Gorman at Keefe\, Campbell\, Biery & Associates to explore how best to position employees to return to work after an injury on the job\, and how best to build decision-making processes that result in cost-effective outcomes. \n\n\n\n\nMore info\n\nregister here
URL:https://ilchamber.org/event/workers-compensation-return-to-work-issues-strategies/
LOCATION:Online
CATEGORIES:Webinars
ATTACH;FMTTYPE=image/png:https://ilchamber.org/wp-content/uploads/2026/04/Workers-Comp-Image.png
END:VEVENT
BEGIN:VEVENT
DTSTART;TZID=America/Chicago:20260521T103000
DTEND;TZID=America/Chicago:20260521T120000
DTSTAMP:20260423T184007
CREATED:20260330T191043Z
LAST-MODIFIED:20260330T191336Z
UID:10000032-1779359400-1779364800@ilchamber.org
SUMMARY:Conducting the HR Audit in Light of AI and Multi-State Developments
DESCRIPTION:Artificial Intelligence (AI) is transforming the modern workplace—reshaping how organizations hire\, manage\, and evaluate their workforce. From recruitment tools to performance tracking systems\, AI is playing a bigger role in employment decisions than ever before. But with innovation comes responsibility—and a fast-evolving legal landscape.  State governments are introducing new regulations to keep pace with AI’s impact on workers' rights\, raising complex challenges for HR professionals\, IT teams\, and legal departments alike. Staying ahead of these developments is critical to protecting your organization; particularly for multi-state employers. \nJoin Sara Zorich and Jeff Risch\, Labor & Employment Attorneys at Amundsen Davis\, LLC\, for a timely and informative webinar where they will break down: \n\nHow traditional employment laws apply to emerging AI tools and how to effectively utilize AI in crafting and updating HR policies and best practices on a multi-state basis\nThe latest in AI-specific legislation and what’s coming next\nActionable strategies for reducing legal risk while embracing innovation\nReview of an HR Audit Checklist\n\nDon’t miss this opportunity to get the insights you need to lead confidently in an ever-changing universe of workplace regulation and compliance. \n\n\n\n\nMore info\n\nregister here
URL:https://ilchamber.org/event/conducting-the-hr-audit-in-light-of-ai-and-multi-state-developments/
LOCATION:Online
CATEGORIES:Webinars
ATTACH;FMTTYPE=image/png:https://ilchamber.org/wp-content/uploads/2026/03/AI-Image.png
END:VEVENT
BEGIN:VEVENT
DTSTART;TZID=America/Chicago:20260528T103000
DTEND;TZID=America/Chicago:20260528T120000
DTSTAMP:20260423T184007
CREATED:20260402T190850Z
LAST-MODIFIED:20260402T191107Z
UID:10000033-1779964200-1779969600@ilchamber.org
SUMMARY:Latest Developments Under the Illinois Day & Temporary Labor Services Act
DESCRIPTION:All user clients and temporary staffing agencies need to take note of the ever-changing landscape that is the Illinois Day & Temporary Labor Services Act.  With additional regulations at hand\, there are many tweaks that the staffing industry must know and note --- for both staffing agencies and user clients. \nThis 90-minute webinar presented by Attorney Jeff Risch will review precisely what the staffing agency must know and do in order to comply with the new mandates as well as what the user client must know and do moving forward. \n\n\n\n\nLearn more\n\nregister here
URL:https://ilchamber.org/event/latest-developments-under-the-illinois-day-temporary-labor-services-act/
LOCATION:Online
CATEGORIES:Webinars
ATTACH;FMTTYPE=image/jpeg:https://ilchamber.org/wp-content/uploads/2026/04/Day-and-Temporary-Staffing-Labor-Services-Act-Image.jpg
END:VEVENT
BEGIN:VEVENT
DTSTART;VALUE=DATE:20260608
DTEND;VALUE=DATE:20260609
DTSTAMP:20260423T184007
CREATED:20260123T174353Z
LAST-MODIFIED:20260422T163237Z
UID:10000009-1780876800-1780963199@ilchamber.org
SUMMARY:Women in Business Conference
DESCRIPTION:The Women in Business Conference offers powerful strategies and techniques to help you advance your career by engaging with our outstanding presenters. You’ll discover how to accelerate your career growth\, unlock exciting new opportunities\, and achieve your personal goals. This is an invaluable chance to learn from top professionals and gain the competitive edge you need to succeed! \nJoin us for a day filled with insightful talks and networking opportunities with successful women from various industries across Illinois. \nDon’t miss this opportunity to be part of a movement that’s shaping the future of women in business. Register now to secure your spot! \nStrong Women. Stronger Illinois \nIllinois women are Second to No One. We have amazing talent\, determination\, intelligence\, and resolve. \nThe robust agenda will provide time for networking and connecting with professionals\, and topics providing takeaways for all to take back to the office or home. \n\n\nThank  you Signature Sponsors\n\n\n\n\n\n\n\n\n\nThank you Leader Sponsors\n\n\n\n\n\n\n\n\n\n\n\n\n\nThank you Corporate Sponsors\n\n\n\n\n\n\n\n\n\n\n\n\n\nThank you Marketing Partners\n\n\n\n\n\n\n\n\n\n\n\n\n\n\n\n\n\n\n\n\n\n\n\n\n\n\n\n\n\n\n\n\n\n\n\n\n\n\n\n\n\n\n\nRegister Here\n\nBecome a Sponsor\n\nDRAFT AGENDA\n\noUR SPEAKERS
URL:https://ilchamber.org/event/women-in-business-conference/
LOCATION:NIU Center Ballroom\, 1120 E. Diehl Rd.\, Naperville\, IL\, United States
CATEGORIES:Featured Events
ATTACH;FMTTYPE=image/jpeg:https://ilchamber.org/wp-content/uploads/2026/01/WomensConf-WebGraphic_2026_final.jpg
END:VEVENT
BEGIN:VEVENT
DTSTART;TZID=America/Chicago:20260624T090000
DTEND;TZID=America/Chicago:20260624T120000
DTSTAMP:20260423T184007
CREATED:20260212T173054Z
LAST-MODIFIED:20260312T144642Z
UID:10000020-1782291600-1782302400@ilchamber.org
SUMMARY:Why Performance Management Matters!
DESCRIPTION:Discover the difference between managing performance and evaluating it. This workshop helps leaders understand how continuous performance management builds stronger teams\, improves communication\, and drives long-term growth. Participants learn how to shift from once-a-year reviews to an ongoing\, collaborative process that supports employee development. \nThrough interactive discussions\, practical tools\, and real-world scenarios\, attendees explore performance management techniques such as goal alignment\, coaching conversations\, and real-time feedback. The workshop also clarifies the limitations of traditional performance appraisals. \nSome topics addressed \n· Definitions and differences between Performance Management and Performance Reviews \n· Explain why performance management is a continuous process\, not an annual event \n· Identify the limitations of traditional performance appraisals \n· Apply modern performance management techniques \n· Conduct effective feedback conversations \n· Build performance plans aligned with organizational goals \n· Why performance management matters \nJoin us for an interactive workshop to enhance your Performance Management! \n\n\n\n\nmore info\n\nregister here
URL:https://ilchamber.org/event/why-performance-management-matters/
LOCATION:NIU Center\, 1120 E. Diehl Rd\, Naperville\, IL\, 60563\, United States
CATEGORIES:Seminars
ATTACH;FMTTYPE=image/jpeg:https://ilchamber.org/wp-content/uploads/2026/02/Performance-Management-Image.jpeg
END:VEVENT
BEGIN:VEVENT
DTSTART;VALUE=DATE:20260731
DTEND;VALUE=DATE:20260801
DTSTAMP:20260423T184007
CREATED:20260123T173223Z
LAST-MODIFIED:20260330T191018Z
UID:10000007-1785456000-1785542399@ilchamber.org
SUMMARY:National Civics Bee
DESCRIPTION:The Illinois Chamber of Commerce is partnering with the U.S. Chamber of Commerce Foundation and local chambers of commerce across Illinois to host a first-of-its-kind statewide civics competition. The 2025-2026 National Civics Bee encourages middle school students in grades 6-8 to engage in civics and contribute to their communities.The competition\, modeled on traditional spelling and geography bees\, gives students the chance to win recognition and earn cash prizes by sharing ideas for improving their communities and showing their enthusiasm for civics. The winner of the National Civics Bee Illinois State Finals will be invited to Washington\, D.C. to compete in the inaugural National Civics Bee national championship in Fall 2026. \n\n\n\n\nRegister Here\n\nAgenda Coming Soon\n\nBecome a Sponsor
URL:https://ilchamber.org/event/national-civics-bee/
LOCATION:UI Springfield
CATEGORIES:Featured Events
ATTACH;FMTTYPE=image/jpeg:https://ilchamber.org/wp-content/uploads/2026/01/CivicsBee-WebGraphic_2026-1.jpg
END:VEVENT
BEGIN:VEVENT
DTSTART;TZID=America/Chicago:20260924T103000
DTEND;TZID=America/Chicago:20260924T140000
DTSTAMP:20260423T184007
CREATED:20260123T173556Z
LAST-MODIFIED:20260327T181201Z
UID:10000008-1790245800-1790258400@ilchamber.org
SUMMARY:Annual Luncheon
DESCRIPTION:September 24\, 2026 l Hilton Chicago Continental Room\, 720 S. Michigan Ave.\, Chicago IL 60605 \nThe Annual Luncheon is the Chamber’s signature event\, bringing together business leaders from across the state who share a common goal: creating a business climate that fosters inclusive growth and prosperity for everyone. This event provides a platform to highlight issues that are important to the business community and to elevate them on the public agenda. \n1030am to 11:30am - Join us for the Networking Reception/Expo11:30am - Luncheon begins \n\n\n\n\nOur Emcee\n\n\n\n\n\n\n\n\n\n\nLourdes Duarte is a four-time EMMY Award winner.  She co-anchors the WGN Evening News at 4pm and is one of the station’s lead investigative reporters.  Prior to her role on the evening news\, Lourdes co-anchored the top-rated WGN Morning News.  She also hosts WGN’s public affairs program Adelante Chicago. She has emceed the Illinois Chamber Annual Luncheon for the past two years.   \n\n\n\n\nThank you Business Supporter Sponsors\n\n\n\n\n\n\n\n\n\n\n\nThank you Table Sponsors\n\n\n\n\n\n\n\n\n\n\n\n\n\n\n\n\n\n\n\n\n\n\n\n\n\n\n\n\n\n\n\nSponsorship opportunities available.  Please contact Laurie Silvey at (217) 991-8598 or ls*****@*******er.org.  \n\n\n\n\n\n\nRegistration Coming Soon\n\nOur Speakers\n\nAgenda\n\nBecome a Sponsor
URL:https://ilchamber.org/event/annual-luncheon/
LOCATION:Hilton Chicago Continental Room\, 720 S. Michigan Ave.\, Chicago\, IL\, 60605\, United States
CATEGORIES:Featured Events
ATTACH;FMTTYPE=image/jpeg:https://ilchamber.org/wp-content/uploads/2026/01/AnnLuncheon-WebGraphic_2026.jpg
END:VEVENT
BEGIN:VEVENT
DTSTART;TZID=America/Chicago:20261013T080000
DTEND;TZID=America/Chicago:20261013T170000
DTSTAMP:20260423T184007
CREATED:20260123T173003Z
LAST-MODIFIED:20260129T195349Z
UID:10000006-1791878400-1791910800@ilchamber.org
SUMMARY:Workers’ Compensation and Safety Conference
DESCRIPTION:The Illinois Chamber of Commerce and the Illinois Self-Insurers’ Association will join forces to present the Most Important Workers’ Compensation & Safety Conference in Illinois in 2025. Both organizations are committed to providing the Illinois business community with valuable information to help employers stay informed about workers’ compensation issues. This complex and often misunderstood law is crucial for employers and their employees to understand in order to remain compliant. The conference aims not only to educate employers on compliance but also to demonstrate how they can reduce their workers’ compensation costs in the process. \nPlease join us for the 2026 ILCC and ISIA Workers’ Compensation and Safety Conference. This year’s event includes the latest information from experts on workers’ compensation\, healthcare\, legislation\, self-insurance and more. Continuing education credits have been applied for pending approval: \n5.0 HRCI5.0 SHRM5.0 MCLE5.0 CRCC \nFor more information\, call Laurie Silvey at (217) 991-8598 or ls*****@*******er.org \n\n\n\n\nRegistration Coming soon\n\nOur Speakers\n\nAgenda Coming Soon\n\nBecome a Sponsor
URL:https://ilchamber.org/event/workers-compensation-and-safety-conference/
LOCATION:NIU Center\, 1120 E. Diehl Rd\, Naperville\, IL\, 60563\, United States
CATEGORIES:Featured Events
ATTACH;FMTTYPE=image/jpeg:https://ilchamber.org/wp-content/uploads/2026/01/WorkComp-WebGraphic_2026.jpg
END:VEVENT
BEGIN:VEVENT
DTSTART;VALUE=DATE:20261112
DTEND;VALUE=DATE:20261113
DTSTAMP:20260423T184007
CREATED:20260123T174601Z
LAST-MODIFIED:20260325T151301Z
UID:10000010-1794441600-1794527999@ilchamber.org
SUMMARY:Exports Conference
DESCRIPTION:After a brief pause during the pandemic\, we are excited to announce the return of the Annual Exports Conference\, hosted by the Illinois Chamber’s International Council. This half-day program\, followed by a networking reception\, will bring together industry leaders\, exporters\, and trade experts to explore the latest trends and opportunities in global commerce.In today’s environment\, U.S. tariff policies continue to pose significant challenges for exporters\, influencing supply chains\, pricing strategies\, and competitiveness in key markets. Understanding these dynamics—and how they impact Illinois businesses—is critical for navigating global trade successfully.Conference Highlights:•Keynote Address on the current state of global trade\, including the implications of U.S. tariff policy and its ripple effects across international markets.•Panel Discussions on:3 Illinois’ Agricultural Sector\, in recognition of the International Year of Women Farmers.3The USMCA and the future of the North American market.3Emerging market opportunities for Illinois exporters in ASEAN\, LATAM\, and the EU.Don’t miss this chance to reconnect\, gain insights\, and position your business for success in the evolving global marketplace.  \nFor more information\, reach out to Laura Ortega at lo*****@*******er.org \n  \n\n\n\n\nRegistration opening soon\n\nBecome a sponsor\n\nAgenda coming soon\n\nOur Speakers
URL:https://ilchamber.org/event/exports-conference/
CATEGORIES:Featured Events,International Business events
ATTACH;FMTTYPE=image/jpeg:https://ilchamber.org/wp-content/uploads/2026/01/ExportsConf-WebGraphic_2026_3-10.jpg
END:VEVENT
BEGIN:VEVENT
DTSTART;VALUE=DATE:20261202
DTEND;VALUE=DATE:20261203
DTSTAMP:20260423T184007
CREATED:20260123T175256Z
LAST-MODIFIED:20260312T144529Z
UID:10000011-1796169600-1796255999@ilchamber.org
SUMMARY:New Laws Forum
DESCRIPTION:The New Laws Forum is dedicated to upcoming legislation and legal developments that will affect all employers in Illinois starting in 2026 and beyond. The forum will feature Illinois attorneys and experts discussing the latest changes in state laws\, as well as representatives from government agencies. Additionally\, a panel of Senior HR professionals will share their experiences regarding how these laws have impacted their businesses and what to expect in the future. It’s already been a busy year\, and more regulations are on the way. \nThank you Sponsors \nSponsorship still available.  Contact ls*****@*******er.org for more information. \n\n\n\n\nRegistration coming soon\n\nBecome a Sponsor\n\nAgenda Coming Soon\n\nour speakers
URL:https://ilchamber.org/event/new-laws-forum/
LOCATION:NIU Center\, 1120 E. Diehl Rd\, Naperville\, IL\, 60563\, United States
CATEGORIES:Featured Events
ATTACH;FMTTYPE=image/jpeg:https://ilchamber.org/wp-content/uploads/2026/01/NewLaws-WebGraphic_2026-1.jpg
END:VEVENT
END:VCALENDAR